BEGIN:VCALENDAR
VERSION:2.0
PRODID:icalendar-ruby
CALSCALE:GREGORIAN
METHOD:PUBLISH
BEGIN:VEVENT
DTSTAMP:20260422T135251Z
UID:181-65119@senecalutheran.org
DTSTART:20260520T170000Z
DTEND:20260520T190000Z
CLASS:PUBLIC
CREATED:20260419T154133
DESCRIPTION:Join us for food and fellowship! The entree will be provided. I
 f you wish\, bring a side dish\, salad\, or dessert to share. The entire c
 ommunity is welcome.
LAST-MODIFIED:20260419T154133
LOCATION:Our Savior's Lutheran Church
SUMMARY:Lunch with Friends
URL;VALUE=URI:https://senecalutheran.org/events/lunch-with-friends--181/202
 6-05-20
ATTACH;FILENAME=people-eating-food_6415293.jpg;FMTTYPE=image/jpeg:https://d
 q5pwpg1q8ru0.cloudfront.net/2026/04/19/20/41/33/070e6d5b-d197-41b1-a063-7b
 efae618b05/people-eating-food_6415293.jpg
END:VEVENT
END:VCALENDAR
